BEGIN:VCALENDAR
VERSION:2.0
PRODID:-//eventon.com NONSGML v1.0//EN
BEGIN:VEVENT
UID:69e888d1f364a
DTSTAMP:20260422T103737
DTSTART:20260622
DTEND:20260622
TZID:Pacific/Midway
LOCATION:
SUMMARY:Schumann Cello Concerto
DESCRIPTION: Schumann Cello Concerto\nhttps://www.pieterdekoe.nl/events/schumann-cello-concerto-2/
URL:https://www.pieterdekoe.nl/events/schumann-cello-concerto-2/
END:VEVENT
END:VCALENDAR