BEGIN:VCALENDAR
VERSION:2.0
PRODID:-//eventon.com NONSGML v1.0//EN
BEGIN:VEVENT
UID:69e88e3bb8f4c
DTSTAMP:20260422T110043
DTSTART:20260621
DTEND:20260621
TZID:Pacific/Midway
LOCATION:
SUMMARY:Schumann Cello Concerto
DESCRIPTION: Schumann Cello Concerto\nhttps://www.pieterdekoe.nl/events/schumann-cello-concerto-copy/
URL:https://www.pieterdekoe.nl/events/schumann-cello-concerto-copy/
END:VEVENT
END:VCALENDAR