BEGIN:VCALENDAR
VERSION:2.0
PRODID:-//eventon.com NONSGML v1.0//EN
BEGIN:VEVENT
UID:69e887e77be97
DTSTAMP:20260422T103343
DTSTART:20260620
DTEND:20260620
TZID:Pacific/Midway
LOCATION:
SUMMARY:Schumann Cello Concerto
DESCRIPTION: Schumann Cello Concerto\nhttps://www.pieterdekoe.nl/events/schumann-cello-concerto/
URL:https://www.pieterdekoe.nl/events/schumann-cello-concerto/
END:VEVENT
END:VCALENDAR