BEGIN:VCALENDAR
VERSION:2.0
PRODID:-//eventon.com NONSGML v1.0//EN
BEGIN:VEVENT
UID:69e8895648254
DTSTAMP:20260422T103950
DTSTART:20260615
DTEND:20260617
TZID:Pacific/Midway
LOCATION:
SUMMARY:Tristan Keuris 80 jaar opnames
DESCRIPTION: Tristan Keuris 80 jaar opnames\nhttps://www.pieterdekoe.nl/events/tristan-keuris-80-jaar-opnames/
URL:https://www.pieterdekoe.nl/events/tristan-keuris-80-jaar-opnames/
END:VEVENT
END:VCALENDAR