BEGIN:VCALENDAR
VERSION:2.0
PRODID:-//eventon.com NONSGML v1.0//EN
BEGIN:VEVENT
UID:69e755dd911f7
DTSTAMP:20260421T124757
DTSTART:20260518
DTEND:20260518
TZID:Pacific/Midway
LOCATION:
SUMMARY:Pieter de Koe en Rik Kuppen
DESCRIPTION: Pieter de Koe en Rik Kuppen\nhttps://www.pieterdekoe.nl/events/pieter-de-koe-en-rik-kuppen/
URL:https://www.pieterdekoe.nl/events/pieter-de-koe-en-rik-kuppen/
END:VEVENT
END:VCALENDAR