BEGIN:VCALENDAR
VERSION:2.0
PRODID:-//eventon.com NONSGML v1.0//EN
BEGIN:VEVENT
UID:69e8723d3bad1
DTSTAMP:20260422T090117
DTSTART:20260205
DTEND:20260205
TZID:UTC
LOCATION:
SUMMARY:ANIMATO KWARTET & KHORSHID DADBEH – Tussen werelden\,  over grenzenKortehoef
DESCRIPTION: ANIMATO KWARTET & KHORSHID DADBEH – Tussen werelden\,  over grenzenKortehoef\nhttps://www.pieterdekoe.nl/events/animato-kwartet-khorshid-dadbeh-tussen-werelden-over-grenzenkortehoef/
URL:https://www.pieterdekoe.nl/events/animato-kwartet-khorshid-dadbeh-tussen-werelden-over-grenzenkortehoef/
END:VEVENT
END:VCALENDAR