BEGIN:VCALENDAR
VERSION:2.0
PRODID:-//eventon.com NONSGML v1.0//EN
BEGIN:VEVENT
UID:69e8728168fab
DTSTAMP:20260422T090225
DTSTART:20260213
DTEND:20260218
TZID:UTC
LOCATION:
SUMMARY:Musikakademie in Liechtenstein
DESCRIPTION: Musikakademie in Liechtenstein\nhttps://www.pieterdekoe.nl/events/musikakademie-in-liechtenstein-3/
URL:https://www.pieterdekoe.nl/events/musikakademie-in-liechtenstein-3/
END:VEVENT
END:VCALENDAR