BEGIN:VCALENDAR
VERSION:2.0
PRODID:-//eventon.com NONSGML v1.0//EN
BEGIN:VEVENT
UID:69e88d2a3bde5
DTSTAMP:20260422T105610
DTSTART:20260308
DTEND:20260308
TZID:UTC
LOCATION:
SUMMARY:Concertstichting Johan Messcherp
DESCRIPTION: Concertstichting Johan Messcherp\nhttps://www.pieterdekoe.nl/events/concertstichting-johan-messcherp/
URL:https://www.pieterdekoe.nl/events/concertstichting-johan-messcherp/
END:VEVENT
END:VCALENDAR