BEGIN:VCALENDAR
VERSION:2.0
PRODID:-//eventon.com NONSGML v1.0//EN
BEGIN:VEVENT
UID:69e872210f38e
DTSTAMP:20260422T090049
DTSTART:20260320
DTEND:20260320
TZID:UTC
LOCATION:
SUMMARY:SWR Concert
DESCRIPTION: SWR Concert\nhttps://www.pieterdekoe.nl/events/swr-concert/
URL:https://www.pieterdekoe.nl/events/swr-concert/
END:VEVENT
END:VCALENDAR