BEGIN:VCALENDAR
VERSION:2.0
PRODID:-//eventon.com NONSGML v1.0//EN
BEGIN:VEVENT
UID:69eb27b82ebaf
DTSTAMP:20260424T102008
DTSTART:20260327
DTEND:20260327
TZID:UTC
LOCATION:
SUMMARY:Reeuwijk Klassiek
DESCRIPTION: Reeuwijk Klassiek\nhttps://www.pieterdekoe.nl/events/reeuwijk-klassiek/
URL:https://www.pieterdekoe.nl/events/reeuwijk-klassiek/
END:VEVENT
END:VCALENDAR