BEGIN:VCALENDAR
VERSION:2.0
PRODID:-//eventon.com NONSGML v1.0//EN
BEGIN:VEVENT
UID:69e8722e11cba
DTSTAMP:20260422T090102
DTSTART:20260329
DTEND:20260329
TZID:UTC
LOCATION:
SUMMARY:AVROTROS Zondag ochtend concert met Jelmer de moed
DESCRIPTION: AVROTROS Zondag ochtend concert met Jelmer de moed\nhttps://www.pieterdekoe.nl/events/avrotros-zondag-ochtend-concert-met-jelmer-de-moed/
URL:https://www.pieterdekoe.nl/events/avrotros-zondag-ochtend-concert-met-jelmer-de-moed/
END:VEVENT
END:VCALENDAR