BEGIN:VCALENDAR
VERSION:2.0
PRODID:-//eventon.com NONSGML v1.0//EN
BEGIN:VEVENT
UID:69e7550bac808
DTSTAMP:20260421T124427
DTSTART:20260401
DTEND:20260401
TZID:UTC
LOCATION:
SUMMARY:Een Weens Drieluik
DESCRIPTION: Een Weens Drieluik\nhttps://www.pieterdekoe.nl/events/een-weens-drieluik/
URL:https://www.pieterdekoe.nl/events/een-weens-drieluik/
END:VEVENT
END:VCALENDAR