BEGIN:VCALENDAR
VERSION:2.0
PRODID:-//eventon.com NONSGML v1.0//EN
BEGIN:VEVENT
UID:69e8727b6bf8e
DTSTAMP:20260422T090219
DTSTART:20260411
DTEND:20260411
TZID:UTC
LOCATION:
SUMMARY:Rand Meer concerten
DESCRIPTION: Rand Meer concerten\nhttps://www.pieterdekoe.nl/events/rand-meer-concerten/
URL:https://www.pieterdekoe.nl/events/rand-meer-concerten/
END:VEVENT
END:VCALENDAR