BEGIN:VCALENDAR
VERSION:2.0
PRODID:-//eventon.com NONSGML v1.0//EN
BEGIN:VEVENT
UID:69e872aa5eacc
DTSTAMP:20260422T090306
DTSTART:20260412
DTEND:20260412
TZID:UTC
LOCATION:
SUMMARY:Kasteelconcerten
DESCRIPTION: Kasteelconcerten\nhttps://www.pieterdekoe.nl/events/kasteelconcerten/
URL:https://www.pieterdekoe.nl/events/kasteelconcerten/
END:VEVENT
END:VCALENDAR