BEGIN:VCALENDAR
VERSION:2.0
PRODID:-//eventon.com NONSGML v1.0//EN
BEGIN:VEVENT
UID:69e872e254cd5
DTSTAMP:20260422T090402
DTSTART:20260418
DTEND:20260418
TZID:UTC
LOCATION:
SUMMARY:Schubert en Bartok
DESCRIPTION: Schubert en Bartok\nhttps://www.pieterdekoe.nl/events/schubert-en-bartok/
URL:https://www.pieterdekoe.nl/events/schubert-en-bartok/
END:VEVENT
END:VCALENDAR