BEGIN:VCALENDAR
VERSION:2.0
PRODID:-//eventon.com NONSGML v1.0//EN
BEGIN:VEVENT
UID:69e872e24afcb
DTSTAMP:20260422T090402
DTSTART:20260421
DTEND:20260421
TZID:UTC
LOCATION:
SUMMARY:Animato Kwartet en Quatour Danel
DESCRIPTION: Animato Kwartet en Quatour Danel\nhttps://www.pieterdekoe.nl/events/animato-kwartet-en-quatour-danel/
URL:https://www.pieterdekoe.nl/events/animato-kwartet-en-quatour-danel/
END:VEVENT
END:VCALENDAR