BEGIN:VCALENDAR
VERSION:2.0
PRODID:-//eventon.com NONSGML v1.0//EN
BEGIN:VEVENT
UID:69e8723d4f8ca
DTSTAMP:20260422T090117
DTSTART:20260512
DTEND:20260512
TZID:UTC
LOCATION:
SUMMARY:Smetana en Ravel\,  Joost Willemse en Jelmer de Moed
DESCRIPTION: Smetana en Ravel\,  Joost Willemse en Jelmer de Moed\nhttps://www.pieterdekoe.nl/events/smetana-en-ravel-joost-willemse-en-jelmer-de-moed/
URL:https://www.pieterdekoe.nl/events/smetana-en-ravel-joost-willemse-en-jelmer-de-moed/
END:VEVENT
END:VCALENDAR