BEGIN:VCALENDAR
VERSION:2.0
PRODID:-//eventon.com NONSGML v1.0//EN
BEGIN:VEVENT
UID:69e8729022662
DTSTAMP:20260422T090240
DTSTART:20260516
DTEND:20260516
TZID:UTC
LOCATION:
SUMMARY:Parmi les étoiles
DESCRIPTION: Parmi les étoiles\nhttps://www.pieterdekoe.nl/events/parmi-les-etoiles-3/
URL:https://www.pieterdekoe.nl/events/parmi-les-etoiles-3/
END:VEVENT
END:VCALENDAR