BEGIN:VCALENDAR
VERSION:2.0
PRODID:-//eventon.com NONSGML v1.0//EN
BEGIN:VEVENT
UID:69e872aa63489
DTSTAMP:20260422T090306
DTSTART:20260522
DTEND:20260525
TZID:UTC
LOCATION:
SUMMARY:Kamermuziekfestival Eibergen
DESCRIPTION: Kamermuziekfestival Eibergen\nhttps://www.pieterdekoe.nl/events/kamermuziekfestival-eibergen-3/
URL:https://www.pieterdekoe.nl/events/kamermuziekfestival-eibergen-3/
END:VEVENT
END:VCALENDAR